BEGIN:VCALENDAR
VERSION:2.0
PRODID:-//Healthy Alternatives - ECPv6.15.17.1//NONSGML v1.0//EN
CALSCALE:GREGORIAN
METHOD:PUBLISH
X-WR-CALNAME:Healthy Alternatives
X-ORIGINAL-URL:https://healthy-alternatives.net
X-WR-CALDESC:Events for Healthy Alternatives
REFRESH-INTERVAL;VALUE=DURATION:PT1H
X-Robots-Tag:noindex
X-PUBLISHED-TTL:PT1H
BEGIN:VTIMEZONE
TZID:UTC
BEGIN:STANDARD
TZOFFSETFROM:+0000
TZOFFSETTO:+0000
TZNAME:UTC
DTSTART:20160101T000000
END:STANDARD
END:VTIMEZONE
BEGIN:VEVENT
DTSTART;TZID=UTC:20170429T080000
DTEND;TZID=UTC:20170507T110000
DTSTAMP:20260422T060735
CREATED:20170422T003121Z
LAST-MODIFIED:20170422T010804Z
UID:1947-1493452800-1494154800@healthy-alternatives.net
SUMMARY:Food Revolution Summit
DESCRIPTION:April 29th – May 7th\, 2017\n8am – 11am Pacific time – Every Day!\nI signed up for this summit.  Each day features 3 different speakers at 8\, 9 & 10am Pacific Time for an average of 40 min. each.  Each interview will be replayed for the next 21 hrs. if you miss a live broadcast.  There is a “Summit Empowerment Package” available at a great price for those who want to keep this info as a reference in your library of health information.  Otherwise\, it is free to listen to all these varied experts – 24 in total! \n\n\n\nThe truth is… mainstream food companies are making billions of dollars selling food that’s hazardous to your health. The time is now to stand up to Monsanto and the junk food industry. The time is now to say NO to polluting your body\, and your planet\, with poisons. The time is now to say YES to the health\, and the life\, that you deserve. \nWelcome to the Food Revolution Summit.\n\n\n\n\nClick here to hear the intro for this wonderful presentation and view the extensive panel of experts who will be participating: \nhttp://foodrevolution.ontraport.net/c/s/sj3/DFsUS/z/50/Uef0/6Z6NwO/6lXMohXD4T/P \n\n					Tweet\n				\n						Follow me\n					\n					Tweet to @linda_healthy
URL:https://healthy-alternatives.net/event/food-revolution-summit/
CATEGORIES:April,Health & Nutrition
ATTACH;FMTTYPE=image/png:https://healthy-alternatives.net/wp-content/uploads/2017/04/Food-Revolution.png
END:VEVENT
BEGIN:VEVENT
DTSTART;TZID=UTC:20170416T110000
DTEND;TZID=UTC:20170416T160000
DTSTAMP:20260422T060735
CREATED:20170330T043838Z
LAST-MODIFIED:20170330T044627Z
UID:1748-1492340400-1492358400@healthy-alternatives.net
SUMMARY:Holistic Market & Psychic Fair
DESCRIPTION:The Holistic Market & Psychic Fair brings together healers\, psychics\, palm readers\, artists\, holistic vendors and more. Join us each month at 1304 Ellis St\, Kelowna\, as we celebrate the diversity of holistic products and services available in the Okanagan. \n“Holistic Nutritionists\, Chiropractors and Detox Specialists”\nFood service available on site!\nScheduled Sundays for 2017:\n\nJanuary 15\nFebrurary 19\nMarch 19\n\n*April 16* (Easter):  2 Year Celebration!\n\nMay 21\nJune 18 (Father’s Day)\nJuly & Aug: no markets\nSeptember 17\nOctober 15\nNovember 19\nDec: no market\n\n\n					Tweet\n				\n						Follow me\n					\n					Tweet to @linda_healthy
URL:https://healthy-alternatives.net/event/holistic-market-psychic-fair/
LOCATION:Laurel Packinghouse\, 1304 Ellis Street\, Kelowna\, BC\, V1Y 1Z8\, Canada
CATEGORIES:April,Monthly Markets
ATTACH;FMTTYPE=image/jpeg:https://healthy-alternatives.net/wp-content/uploads/2017/03/Holistic-Market.jpg
END:VEVENT
BEGIN:VEVENT
DTSTART;TZID=UTC:20170409T100000
DTEND;TZID=UTC:20170409T170000
DTSTAMP:20260422T060735
CREATED:20170329T083836Z
LAST-MODIFIED:20170329T084834Z
UID:1731-1491732000-1491757200@healthy-alternatives.net
SUMMARY:Craft Culture
DESCRIPTION:Here’s a wonderful opportunity for creative people to promote and sell their wares to anyone who might like to purchase unique\, innovative and homemade items!  And what better way to celebrate the arrival of spring! \nKeeping this a genuine craft fair was important to us – that’s why we have over 100 talented vendors selling handmade/designed wares.  This is the perfect place to buy unique items for Easter & Mother’s Day! \nSaturday\, April 8: 10am – 5pm \nSunday\, April 9: 10am – 5pm \n\n					Tweet\n				\n						Follow me\n					\n					Tweet to @linda_healthy
URL:https://healthy-alternatives.net/event/craft-culture-2/
LOCATION:The Kelowna Curling Club\, 551 Recreation Avenue\, Kelowna\, BC\, V1Y 7V5\, Canada
CATEGORIES:April
ATTACH;FMTTYPE=image/jpeg:https://healthy-alternatives.net/wp-content/uploads/2017/03/Craft-Culture.jpg
ORGANIZER;CN="Karalyn Lockhart":MAILTO:info@craftculture.ca
END:VEVENT
BEGIN:VEVENT
DTSTART;TZID=UTC:20170408T100000
DTEND;TZID=UTC:20170408T170000
DTSTAMP:20260422T060735
CREATED:20170329T065633Z
LAST-MODIFIED:20170330T045510Z
UID:1717-1491645600-1491670800@healthy-alternatives.net
SUMMARY:Craft Culture
DESCRIPTION:Here’s a wonderful opportunity for creative people to promote and sell their wares to anyone who might like to purchase unique\, innovative and homemade items!  And what better way to celebrate the arrival of spring! \nKeeping this a genuine craft fair was important to us – that’s why we have over 100 talented vendors selling handmade/designed wares.  This is the perfect place to buy unique items for Easter & Mother’s Day! \nSaturday\, April 8: 10am – 5pm\nSunday\, April 9: 10am – 5pm\n\n					Tweet\n				\n						Follow me\n					\n					Tweet to @linda_healthy
URL:https://healthy-alternatives.net/event/craft-culture/
LOCATION:The Kelowna Curling Club\, 551 Recreation Avenue\, Kelowna\, BC\, V1Y 7V5\, Canada
CATEGORIES:April
ATTACH;FMTTYPE=image/jpeg:https://healthy-alternatives.net/wp-content/uploads/2017/03/Craft-Culture.jpg
ORGANIZER;CN="Karalyn Lockhart":MAILTO:info@craftculture.ca
END:VEVENT
END:VCALENDAR