BEGIN:VCALENDAR
VERSION:2.0
PRODID:-//Healthy Alternatives - ECPv6.15.17.1//NONSGML v1.0//EN
CALSCALE:GREGORIAN
METHOD:PUBLISH
X-WR-CALNAME:Healthy Alternatives
X-ORIGINAL-URL:https://healthy-alternatives.net
X-WR-CALDESC:Events for Healthy Alternatives
REFRESH-INTERVAL;VALUE=DURATION:PT1H
X-Robots-Tag:noindex
X-PUBLISHED-TTL:PT1H
BEGIN:VTIMEZONE
TZID:America/Vancouver
BEGIN:DAYLIGHT
TZOFFSETFROM:-0800
TZOFFSETTO:-0700
TZNAME:PDT
DTSTART:20170312T100000
END:DAYLIGHT
BEGIN:STANDARD
TZOFFSETFROM:-0700
TZOFFSETTO:-0800
TZNAME:PST
DTSTART:20171105T090000
END:STANDARD
BEGIN:DAYLIGHT
TZOFFSETFROM:-0800
TZOFFSETTO:-0700
TZNAME:PDT
DTSTART:20180311T100000
END:DAYLIGHT
BEGIN:STANDARD
TZOFFSETFROM:-0700
TZOFFSETTO:-0800
TZNAME:PST
DTSTART:20181104T090000
END:STANDARD
BEGIN:DAYLIGHT
TZOFFSETFROM:-0800
TZOFFSETTO:-0700
TZNAME:PDT
DTSTART:20190310T100000
END:DAYLIGHT
BEGIN:STANDARD
TZOFFSETFROM:-0700
TZOFFSETTO:-0800
TZNAME:PST
DTSTART:20191103T090000
END:STANDARD
END:VTIMEZONE
BEGIN:VEVENT
DTSTART;VALUE=DATE:20180608
DTEND;VALUE=DATE:20180615
DTSTAMP:20260422T072001
CREATED:20180607T202303Z
LAST-MODIFIED:20180607T202303Z
UID:3041-1528416000-1529020799@healthy-alternatives.net
SUMMARY:Rivers to Oceans Week
DESCRIPTION:Garbage\, Pollution\, Plastic… the more the earth’s population grows\, the worse the situation becomes. We all need to change our ways and consider the environment with every decision we make. Plastic is becoming a huge problem! The ground is not a garbage can\, no matter how small or insignificant your little piece of trash might seem. Garbage ends up in rivers\, rivers flow into oceans and animals are ingesting what you are throwing away! Choose this week to make some lifelong changes that will affect your planet for the better! \n\n					Tweet\n				\n						Follow me\n					\n					Tweet to @linda_healthy
URL:https://healthy-alternatives.net/event/rivers-to-oceans-week/
CATEGORIES:June,Rivers to Oceans Week
ATTACH;FMTTYPE=image/jpeg:https://healthy-alternatives.net/wp-content/uploads/2018/06/Pollution-Ocean.jpg
END:VEVENT
BEGIN:VEVENT
DTSTART;VALUE=DATE:20180608
DTEND;VALUE=DATE:20180609
DTSTAMP:20260422T072001
CREATED:20180606T183042Z
LAST-MODIFIED:20180606T183042Z
UID:3022-1528416000-1528502399@healthy-alternatives.net
SUMMARY:World Oceans Day
DESCRIPTION:Plastic\, Microbeads\, Garbage\, all the stuff that ends up in the ocean…. \n…gets ingested by the birds and mammals and fish… \n…that we eat… \nJune 8th is World Oceans Day – a day to remind ourselves about the things we do that contribute to the desecration of our oceans that we all love to look at and float on… There are now literally ISLANDS of garbage floating around in our oceans and\, unfortunately\, they are NOT a mirage! \nAnimals are DYING from all the plastic they’ve ingested… where did that plastic come from? How did it end up in the ocean? \nChoose June 8th to start making a change\, ANY small change will help the greater cause. It starts with YOU! \n\n					Tweet\n				\n						Follow me\n					\n					Tweet to @linda_healthy
URL:https://healthy-alternatives.net/event/world-oceans-day/
CATEGORIES:June,World Oceans Day
ATTACH;FMTTYPE=image/jpeg:https://healthy-alternatives.net/wp-content/uploads/2018/06/Ocean-Pollution2.jpg
END:VEVENT
END:VCALENDAR